BEGIN:VCALENDAR
VERSION:2.0
PRODID:-//Tukios.com/
BEGIN:VEVENT
UID:3c9e2736-aaa8-4c1e-870a-9487904d11d1@www.pantalone.com
DTSTAMP:20260423T002628Z
DTSTART:20260427
SUMMARY:Entombment
DESCRIPTION:
URL:https://www.pantalone.com/obituaries/patricia-kettering
LOCATION: 300 Fraser Purchase Rd  Latrobe PA 15650
GEO:40.305287;-79.396686
END:VEVENT
END:VCALENDAR