BEGIN:VCALENDAR
VERSION:2.0
PRODID:-//Tukios.com/
BEGIN:VEVENT
UID:a5ab3fca-af44-430b-a304-c9d7dbf36948@www.pantalone.com
DTSTAMP:20260423T002628Z
DTSTART:20260427T133000Z
DTEND:20260427T143000Z
SUMMARY:Mass of Christian Burial
DESCRIPTION:
URL:https://www.pantalone.com/obituaries/patricia-kettering
LOCATION: 300 N Main St  Greensburg PA 15601
GEO:40.3064105;-79.5463382
END:VEVENT
END:VCALENDAR