BEGIN:VCALENDAR
VERSION:2.0
PRODID:-//Tukios.com/
BEGIN:VEVENT
UID:4ae88749-9542-42f1-9259-51257e747c96@www.pantalone.com
DTSTAMP:20260423T002411Z
DTSTART:20260427T130000Z
DTEND:20260427T140000Z
SUMMARY:Parting Prayer Service
DESCRIPTION:
URL:https://www.pantalone.com/obituaries/patricia-kettering
LOCATION: 409 West Pittsburgh Street  Greensburg PA 15601
GEO:40.3013087;-79.5514637
END:VEVENT
END:VCALENDAR