BEGIN:VCALENDAR
VERSION:2.0
PRODID:-//Tukios.com/
BEGIN:VEVENT
UID:c60f5fdf-e1aa-4d10-9e3e-8ded0d371b90@www.pantalone.com
DTSTAMP:20260422T032239Z
DTSTART:20260423
SUMMARY:Interment
DESCRIPTION:
URL:https://www.pantalone.com/obituaries/esther-bungard
LOCATION: 483 Athena Dr  Delmont PA 15626
GEO:40.4215919;-79.5666628
END:VEVENT
END:VCALENDAR