BEGIN:VCALENDAR
VERSION:2.0
PRODID:-//Tukios.com/
BEGIN:VEVENT
UID:13d18b65-1423-4003-93de-038209bad036@www.pantalone.com
DTSTAMP:20260422T031753Z
DTSTART:20260423T160000Z
DTEND:20260423T170000Z
SUMMARY:Funeral Service
DESCRIPTION:
URL:https://www.pantalone.com/obituaries/esther-bungard
LOCATION: 409 West Pittsburgh Street  Greensburg PA 15601
GEO:40.3013087;-79.5514637
END:VEVENT
END:VCALENDAR