BEGIN:VCALENDAR
VERSION:2.0
PRODID:-//Tukios.com/
BEGIN:VEVENT
UID:241c2124-4276-401d-8ce4-700bc10ea997@www.pantalone.com
DTSTAMP:20260422T031753Z
DTSTART:20260423T150000Z
DTEND:20260423T160000Z
SUMMARY:Visitation
DESCRIPTION:
URL:https://www.pantalone.com/obituaries/esther-bungard
LOCATION: 409 West Pittsburgh Street  Greensburg PA 15601
GEO:40.3013087;-79.5514637
END:VEVENT
END:VCALENDAR